Workbook

Sheet 農地転用等の通知書
Y2: 第 号
A3: 農 地 転 用 等 の 通 知 書
B5: このたび下記の土地について農地法第 条第 項第 号の規定による（許可の申請、届出）にあたり、
B6: 地区除外等の処理規定第2条の規定に基づきあらかじめ通知します。
B7: なお、同規程第3条の申し入れ事項等については、別途協議し、第6条の決済金については所定の方法により
B8: これを納付します。
E10: 令和 | H10: 年 | J10: 月 | L10: 日
L12: 転用組合員 | R12: 住所
R13: 氏名 | AE13: ㊞
L15: 転用関係者 | R15: 住所
R16: 氏名 | AE16: ㊞
B17: 福田悪水土地改良区 理事長 殿
B18: 記
B19: １ 土 地 | L19: 市（町）
B20: 字 名 | F20: 地 番 | J20: 地 目 | M20: 用 途 | P20: 面 積 | T20: 転用面積 | X20: 転用予定日 | AB20: 備 考
B25: ２ 位置図及び公図の写
B26: ３ 農業委員会(知事)に(転用許可申請書、転用届出書）を提出しようとする日。令和 年 月 日
B27: （注）転用に係る土地が小作地である場合にあっては、当該土地の所有者も転用関係者として連署すること。

Sheet 意見書
Y2: 第 号
A3: 意 見 書
B5: 下記記載の土地に係る農地法第 条の許可申請について、農地転用に伴う措置（規程第3条）等については協議
B6: が整い、本土地改良区としては差し支えありません。
B7: ただし農地転用にあたり本土地改良区関係の施設等に被害を及ぼした場合は一切の責任を負うことを条件とする。
P9: 福田悪水土地改良区 理事長 印
E10: 令和 | G10: =IF(農地転用等の通知書!G10="","",農地転用等の通知書!G10) | H10: 年 | I10: =IF(農地転用等の通知書!I10="","",農地転用等の通知書!I10) | J10: 月 | K10: =IF(農地転用等の通知書!K10="","",農地転用等の通知書!K10) | L10: 日
A11: 記
B12: １ 通知者 | L12: 転用組合員 | R12: 住所 | T12: =IF(農地転用等の通知書!T12="","",農地転用等の通知書!T12)
R13: 氏名 | T13: =IF(農地転用等の通知書!T13="","",農地転用等の通知書!T13)
L15: 転用関係者 | R15: 住所 | T15: =IF(農地転用等の通知書!T15="","",農地転用等の通知書!T15)
R16: 氏名 | T16: =IF(農地転用等の通知書!T16="","",農地転用等の通知書!T16)
B19: １ 土 地 | F19: =IF(農地転用等の通知書!F19="","",農地転用等の通知書!F19) | L19: 市（町）
B20: 字 名 | F20: 地 番 | J20: 地 目 | M20: 用 途 | P20: 面 積 | T20: 転用面積 | X20: 転用予定日 | AB20: 備 考
B21: =IF(農地転用等の通知書!B21="","",農地転用等の通知書!B21) | F21: =IF(農地転用等の通知書!F21="","",農地転用等の通知書!F21) | J21: =IF(農地転用等の通知書!J21="","",農地転用等の通知書!J21) | M21: =IF(農地転用等の通知書!M21="","",農地転用等の通知書!M21) | P21: =IF(農地転用等の通知書!P21="","",農地転用等の通知書!P21) | T21: =IF(農地転用等の通知書!T21="","",農地転用等の通知書!T21) | X21: =IF(農地転用等の通知書!X21="","",農地転用等の通知書!X21) | AB21: =IF(農地転用等の通知書!AB21="","",農地転用等の通知書!AB21)
B22: =IF(農地転用等の通知書!B22="","",農地転用等の通知書!B22) | F22: =IF(農地転用等の通知書!F22="","",農地転用等の通知書!F22) | J22: =IF(農地転用等の通知書!J22="","",農地転用等の通知書!J22) | M22: =IF(農地転用等の通知書!M22="","",農地転用等の通知書!M22) | P22: =IF(農地転用等の通知書!P22="","",農地転用等の通知書!P22) | T22: =IF(農地転用等の通知書!T22="","",農地転用等の通知書!T22) | X22: =IF(農地転用等の通知書!X22="","",農地転用等の通知書!X22) | AB22: =IF(農地転用等の通知書!AB22="","",農地転用等の通知書!AB22)
B23: =IF(農地転用等の通知書!B23="","",農地転用等の通知書!B23) | F23: =IF(農地転用等の通知書!F23="","",農地転用等の通知書!F23) | J23: =IF(農地転用等の通知書!J23="","",農地転用等の通知書!J23) | M23: =IF(農地転用等の通知書!M23="","",農地転用等の通知書!M23) | P23: =IF(農地転用等の通知書!P23="","",農地転用等の通知書!P23) | T23: =IF(農地転用等の通知書!T23="","",農地転用等の通知書!T23) | X23: =IF(農地転用等の通知書!X23="","",農地転用等の通知書!X23) | AB23: =IF(農地転用等の通知書!AB23="","",農地転用等の通知書!AB23)
B24: =IF(農地転用等の通知書!B24="","",農地転用等の通知書!B24) | F24: =IF(農地転用等の通知書!F24="","",農地転用等の通知書!F24) | J24: =IF(農地転用等の通知書!J24="","",農地転用等の通知書!J24) | M24: =IF(農地転用等の通知書!M24="","",農地転用等の通知書!M24) | P24: =IF(農地転用等の通知書!P24="","",農地転用等の通知書!P24) | T24: =IF(農地転用等の通知書!T24="","",農地転用等の通知書!T24) | X24: =IF(農地転用等の通知書!X24="","",農地転用等の通知書!X24) | AB24: =IF(農地転用等の通知書!AB24="","",農地転用等の通知書!AB24)
B25: （注）転用に係る土地が小作地である場合にあっては、当該土地の所有者も転用関係者として連署すること。

Sheet 地区除外申請書
Y2: 第 号
A3: 地 区 除 外 申 請 書
B5: 令和 年 月 日通知に係る下記土地につき、令和 年 月 日以降これを転用するので、土地改良区の
B6: 地区から除外されたく申請する。なお当該年度の賦課金は必ず納付致します。また未納賦課金のある場合は
B7: 完納致します。
E9: 令和 | G9: =IF(農地転用等の通知書!G10="","",農地転用等の通知書!G10) | H9: 年 | I9: =IF(農地転用等の通知書!I10="","",農地転用等の通知書!I10) | J9: 月 | K9: =IF(農地転用等の通知書!K10="","",農地転用等の通知書!K10) | L9: 日
L10: 負担金納付者 | R10: 氏名 | AE10: ㊞
L12: 転用組合員 | R12: 住所 | T12: =IF(農地転用等の通知書!T12="","",農地転用等の通知書!T12)
R13: 氏名 | T13: =IF(農地転用等の通知書!T13="","",農地転用等の通知書!T13) | AE13: ㊞
L15: 転用関係者 | R15: 住所 | T15: =IF(農地転用等の通知書!T15="","",農地転用等の通知書!T15)
R16: 氏名 | T16: =IF(農地転用等の通知書!T16="","",農地転用等の通知書!T16) | AE16: ㊞
B17: 福田悪水土地改良区 理事長 殿
B18: 記
B19: １ 土 地 | F19: =IF(農地転用等の通知書!F19="","",農地転用等の通知書!F19) | L19: 市（町）
B20: 字 名 | F20: 地 番 | J20: 地 目 | M20: 用 途 | P20: 面 積 | T20: 転用面積 | X20: 転用予定日 | AB20: 備 考
B21: =IF(農地転用等の通知書!B21="","",農地転用等の通知書!B21) | F21: =IF(農地転用等の通知書!F21="","",農地転用等の通知書!F21) | J21: =IF(農地転用等の通知書!J21="","",農地転用等の通知書!J21) | M21: =IF(農地転用等の通知書!M21="","",農地転用等の通知書!M21) | P21: =IF(農地転用等の通知書!P21="","",農地転用等の通知書!P21) | T21: =IF(農地転用等の通知書!T21="","",農地転用等の通知書!T21) | X21: =IF(農地転用等の通知書!X21="","",農地転用等の通知書!X21) | AB21: =IF(農地転用等の通知書!AB21="","",農地転用等の通知書!AB21)
B22: =IF(農地転用等の通知書!B22="","",農地転用等の通知書!B22) | F22: =IF(農地転用等の通知書!F22="","",農地転用等の通知書!F22) | J22: =IF(農地転用等の通知書!J22="","",農地転用等の通知書!J22) | M22: =IF(農地転用等の通知書!M22="","",農地転用等の通知書!M22) | P22: =IF(農地転用等の通知書!P22="","",農地転用等の通知書!P22) | T22: =IF(農地転用等の通知書!T22="","",農地転用等の通知書!T22) | X22: =IF(農地転用等の通知書!X22="","",農地転用等の通知書!X22) | AB22: =IF(農地転用等の通知書!AB22="","",農地転用等の通知書!AB22)
B23: =IF(農地転用等の通知書!B23="","",農地転用等の通知書!B23) | F23: =IF(農地転用等の通知書!F23="","",農地転用等の通知書!F23) | J23: =IF(農地転用等の通知書!J23="","",農地転用等の通知書!J23) | M23: =IF(農地転用等の通知書!M23="","",農地転用等の通知書!M23) | P23: =IF(農地転用等の通知書!P23="","",農地転用等の通知書!P23) | T23: =IF(農地転用等の通知書!T23="","",農地転用等の通知書!T23) | X23: =IF(農地転用等の通知書!X23="","",農地転用等の通知書!X23) | AB23: =IF(農地転用等の通知書!AB23="","",農地転用等の通知書!AB23)
B24: =IF(農地転用等の通知書!B24="","",農地転用等の通知書!B24) | F24: =IF(農地転用等の通知書!F24="","",農地転用等の通知書!F24) | J24: =IF(農地転用等の通知書!J24="","",農地転用等の通知書!J24) | M24: =IF(農地転用等の通知書!M24="","",農地転用等の通知書!M24) | P24: =IF(農地転用等の通知書!P24="","",農地転用等の通知書!P24) | T24: =IF(農地転用等の通知書!T24="","",農地転用等の通知書!T24) | X24: =IF(農地転用等の通知書!X24="","",農地転用等の通知書!X24) | AB24: =IF(農地転用等の通知書!AB24="","",農地転用等の通知書!AB24)
B25: （注）転用に係る土地が小作地である場合にあっては、当該土地の所有者も転用関係者として連署すること。
